BEGIN:VCALENDAR
VERSION:2.0
PRODID:-//hacksw/handcal//NONSGML v1.0//EN
BEGIN:VEVENT
SUMMARY:Championnat Departemental par equipes
UID:8d072f47-0dd3-4acd-bfbf-42ff85887a9f
DTSTART:20260402T220000Z
DTEND:20260403T220000Z
LOCATION:Localisation   
CATEGORIES:Sportif
STATUS:
URL;VALUE=URI:https://ttmauriac15200.sportsregions.fr/evenements/2026/04/03/championnat-departemental-par-equipes-2438024
END:VEVENT
END:VCALENDAR
